BEGIN:VCALENDAR
VERSION:2.0
PRODID:-//eventon.com NONSGML v1.0//EN
CALSCALE:GREGORIAN
METHOD:PUBLISH
BEGIN:VEVENT
UID:69e7c2fa8ed89
DTSTAMP:20260421T183330Z
DTSTART:20260717
DTEND:20260718
LOCATION:
SUMMARY:Zomervakantie
DESCRIPTION:Zomervakantie\nhttps://paulus.melange-design.nl/events/zomervak
 antie-5/
URL:https://paulus.melange-design.nl/events/zomervakantie-5/
END:VEVENT
END:VCALENDAR