BEGIN:VCALENDAR
VERSION:2.0
PRODID:-//eventon.com NONSGML v1.0//EN
CALSCALE:GREGORIAN
METHOD:PUBLISH
BEGIN:VEVENT
UID:69e7c318a3ec7
DTSTAMP:20260421T183400Z
DTSTART:20260710
DTEND:20260711
LOCATION:
SUMMARY:Groep 3-8: Rapport 2 mee
DESCRIPTION:Groep 3-8: Rapport 2 mee\nhttps://paulus.melange-design.nl/even
 ts/groep-3-8-rapport-2-mee/
URL:https://paulus.melange-design.nl/events/groep-3-8-rapport-2-mee/
END:VEVENT
END:VCALENDAR