BEGIN:VCALENDAR
VERSION:2.0
PRODID:-//eventon.com NONSGML v1.0//EN
CALSCALE:GREGORIAN
METHOD:PUBLISH
BEGIN:VEVENT
UID:69e7c319016b1
DTSTAMP:20260421T183401Z
DTSTART:20260626
DTEND:20260627
LOCATION:
SUMMARY:Studiedag; leerlingen vrij!
DESCRIPTION:Studiedag; leerlingen vrij!\nhttps://paulus.melange-design.nl/e
 vents/studiedag-leerlingen-vrij-18/
URL:https://paulus.melange-design.nl/events/studiedag-leerlingen-vrij-18/
END:VEVENT
END:VCALENDAR