BEGIN:VCALENDAR
VERSION:2.0
PRODID:-//eventon.com NONSGML v1.0//EN
CALSCALE:GREGORIAN
METHOD:PUBLISH
BEGIN:VEVENT
UID:69e7c2fa2633c
DTSTAMP:20260421T183330Z
DTSTART:20260525
DTEND:20260526
LOCATION:
SUMMARY:Pinksteren; leerlingen vrij!
DESCRIPTION:Pinksteren; leerlingen vrij!\nhttps://paulus.melange-design.nl/
 events/pinksteren-leerlingen-vrij/
URL:https://paulus.melange-design.nl/events/pinksteren-leerlingen-vrij/
END:VEVENT
END:VCALENDAR