BEGIN:VCALENDAR
VERSION:2.0
PRODID:-//eventon.com NONSGML v1.0//EN
CALSCALE:GREGORIAN
METHOD:PUBLISH
BEGIN:VEVENT
UID:69e7c31a054ea
DTSTAMP:20260421T183402Z
DTSTART:20260514
DTEND:20260515
LOCATION:
SUMMARY:Hemelvaart; leerlingen vrij!
DESCRIPTION:Hemelvaart; leerlingen vrij!\nhttps://paulus.melange-design.nl/
 events/hemelvaart-5/
URL:https://paulus.melange-design.nl/events/hemelvaart-5/
END:VEVENT
END:VCALENDAR