BEGIN:VCALENDAR
VERSION:2.0
PRODID:-//eventon.com NONSGML v1.0//EN
CALSCALE:GREGORIAN
METHOD:PUBLISH
BEGIN:VEVENT
UID:69e7c2fa252a3
DTSTAMP:20260421T183330Z
DTSTART:20260425T210400Z
DTEND:20260510T210400Z
LOCATION:
SUMMARY:Meivakantie
DESCRIPTION:Meivakantie\nhttps://paulus.melange-design.nl/events/meivakanti
 e-7/
URL:https://paulus.melange-design.nl/events/meivakantie-7/
END:VEVENT
END:VCALENDAR